BEGIN:VCALENDAR
VERSION:2.0
PRODID:-//Nepali Calendar//EN
BEGIN:VEVENT
UID:38f15987c2e4006adc50d477ccb81c1c@nepalicalendar.com
DTSTAMP:20260422T222737Z
DTSTART;VALUE=DATE:20240413
DTEND;VALUE=DATE:20240414
SUMMARY:बिस्का: जात्रा
DESCRIPTION:बिस्का: जात्रा
END:VEVENT
END:VCALENDAR