BEGIN:VCALENDAR
VERSION:2.0
PRODID:-//Nepali Calendar//EN
BEGIN:VEVENT
UID:8cceaf989adfde001ed0bd8cde1bdabc@nepalicalendar.com
DTSTAMP:20260421T194207Z
DTSTART;VALUE=DATE:20250827
DTEND;VALUE=DATE:20250828
SUMMARY:राष्ट्रिय धर्मसभा दिवस
DESCRIPTION:राष्ट्रिय धर्मसभा दिवस
END:VEVENT
END:VCALENDAR