BEGIN:VCALENDAR
VERSION:2.0
PRODID:-//Nepali Calendar//EN
BEGIN:VEVENT
UID:10476f270020b9f749e413f3bd5ab5a0@nepalicalendar.com
DTSTAMP:20260421T194602Z
DTSTART;VALUE=DATE:20250827
DTEND;VALUE=DATE:20250828
SUMMARY:गणेश चतुर्थी
DESCRIPTION:गणेश चतुर्थी
END:VEVENT
END:VCALENDAR