BEGIN:VCALENDAR
VERSION:2.0
PRODID:-//Nepali Calendar//EN
BEGIN:VEVENT
UID:ddac7f251255007590240c676b1c2ff7@nepalicalendar.com
DTSTAMP:20260421T194402Z
DTSTART;VALUE=DATE:20250826
DTEND;VALUE=DATE:20250827
SUMMARY:हरितालिका तीज (महिला कर्मचारीहरूलाई मात्र)
DESCRIPTION:हरितालिका तीज (महिला कर्मचारीहरूलाई मात्र)
END:VEVENT
END:VCALENDAR