BEGIN:VCALENDAR
VERSION:2.0
PRODID:-//Nepali Calendar//EN
BEGIN:VEVENT
UID:de731d0f38f8486cc85a494dc8fd9396@nepalicalendar.com
DTSTAMP:20260421T194357Z
DTSTART;VALUE=DATE:20250825
DTEND;VALUE=DATE:20250826
SUMMARY:दर खाने दिन
DESCRIPTION:दर खाने दिन
END:VEVENT
END:VCALENDAR