BEGIN:VCALENDAR
VERSION:2.0
PRODID:-//Nepali Calendar//EN
BEGIN:VEVENT
UID:2835a5a11e229ed2230b20ff237e25c9@nepalicalendar.com
DTSTAMP:20260421T194137Z
DTSTART;VALUE=DATE:20250824
DTEND;VALUE=DATE:20250825
SUMMARY:गुंला पर्व समाप्ति
DESCRIPTION:गुंला पर्व समाप्ति
END:VEVENT
END:VCALENDAR