BEGIN:VCALENDAR
VERSION:2.0
PRODID:-//Nepali Calendar//EN
BEGIN:VEVENT
UID:3972beebe60080e8eb2cb37095632bb7@nepalicalendar.com
DTSTAMP:20260421T194218Z
DTSTART;VALUE=DATE:20250823
DTEND;VALUE=DATE:20250824
SUMMARY:मोतीराम भट्ट जन्मजयन्ती
DESCRIPTION:मोतीराम भट्ट जन्मजयन्ती
END:VEVENT
END:VCALENDAR