BEGIN:VCALENDAR
VERSION:2.0
PRODID:-//Nepali Calendar//EN
BEGIN:VEVENT
UID:806bcde6ae108db834c9a0d837400ab1@nepalicalendar.com
DTSTAMP:20260421T194356Z
DTSTART;VALUE=DATE:20250823
DTEND;VALUE=DATE:20250824
SUMMARY:कुशे औंसी
DESCRIPTION:कुशे औंसी
END:VEVENT
END:VCALENDAR