BEGIN:VCALENDAR
VERSION:2.0
PRODID:-//Nepali Calendar//EN
BEGIN:VEVENT
UID:530c5cb3663973c3b185510ebb13057f@nepalicalendar.com
DTSTAMP:20260421T194055Z
DTSTART;VALUE=DATE:20250823
DTEND;VALUE=DATE:20250824
SUMMARY:बुबाको मुख हेर्ने दिन
DESCRIPTION:बुबाको मुख हेर्ने दिन
END:VEVENT
END:VCALENDAR