BEGIN:VCALENDAR
VERSION:2.0
PRODID:-//Nepali Calendar//EN
BEGIN:VEVENT
UID:0cb6c9f8cce929705bde6507432a0fd7@nepalicalendar.com
DTSTAMP:20260421T194310Z
DTSTART;VALUE=DATE:20250820
DTEND;VALUE=DATE:20250821
SUMMARY:प्रदोष व्रत
DESCRIPTION:प्रदोष व्रत
END:VEVENT
END:VCALENDAR