BEGIN:VCALENDAR
VERSION:2.0
PRODID:-//Nepali Calendar//EN
BEGIN:VEVENT
UID:48733ec13e0edcf15ac8b23923c0d8cc@nepalicalendar.com
DTSTAMP:20260421T194546Z
DTSTART;VALUE=DATE:20250819
DTEND;VALUE=DATE:20250820
SUMMARY:विश्व फोटोग्राफी दिवस
DESCRIPTION:विश्व फोटोग्राफी दिवस
END:VEVENT
END:VCALENDAR