BEGIN:VCALENDAR
VERSION:2.0
PRODID:-//Nepali Calendar//EN
BEGIN:VEVENT
UID:75fdd0bd0a9fcb62a168915b3117364f@nepalicalendar.com
DTSTAMP:20260422T222729Z
DTSTART;VALUE=DATE:20240413
DTEND;VALUE=DATE:20240414
SUMMARY:मेष संक्रान्ति
DESCRIPTION:मेष संक्रान्ति
END:VEVENT
END:VCALENDAR