BEGIN:VCALENDAR
VERSION:2.0
PRODID:-//Nepali Calendar//EN
BEGIN:VEVENT
UID:412a3e277108afc3b002c1756782a9cc@nepalicalendar.com
DTSTAMP:20260421T194311Z
DTSTART;VALUE=DATE:20250819
DTEND;VALUE=DATE:20250820
SUMMARY:अजा एकादशी व्रत
DESCRIPTION:अजा एकादशी व्रत
END:VEVENT
END:VCALENDAR