BEGIN:VCALENDAR
VERSION:2.0
PRODID:-//Nepali Calendar//EN
BEGIN:VEVENT
UID:43c3d769a24cdf5960135a07b21f4779@nepalicalendar.com
DTSTAMP:20260421T194510Z
DTSTART;VALUE=DATE:20250817
DTEND;VALUE=DATE:20250818
SUMMARY:सिंह संक्रान्ति
DESCRIPTION:सिंह संक्रान्ति
END:VEVENT
END:VCALENDAR