BEGIN:VCALENDAR
VERSION:2.0
PRODID:-//Nepali Calendar//EN
BEGIN:VEVENT
UID:45adb3c3605709a078a440e44c57d0cf@nepalicalendar.com
DTSTAMP:20260421T213317Z
DTSTART;VALUE=DATE:20250816
DTEND;VALUE=DATE:20250817
SUMMARY:गोरखकाली पूजा
DESCRIPTION:गोरखकाली पूजा
END:VEVENT
END:VCALENDAR