BEGIN:VCALENDAR
VERSION:2.0
PRODID:-//Nepali Calendar//EN
BEGIN:VEVENT
UID:e2022dd4aea60d102acfe8d693b21bd0@nepalicalendar.com
DTSTAMP:20260421T213217Z
DTSTART;VALUE=DATE:20250816
DTEND;VALUE=DATE:20250817
SUMMARY:श्रीकृष्ण जन्माष्टमी
DESCRIPTION:श्रीकृष्ण जन्माष्टमी
END:VEVENT
END:VCALENDAR