BEGIN:VCALENDAR
VERSION:2.0
PRODID:-//Nepali Calendar//EN
BEGIN:VEVENT
UID:4db83e9094b351d6d0ae7457d7eb7100@nepalicalendar.com
DTSTAMP:20260421T213006Z
DTSTART;VALUE=DATE:20250814
DTEND;VALUE=DATE:20250815
SUMMARY:विश्व सुलेखन दिवस
DESCRIPTION:विश्व सुलेखन दिवस
END:VEVENT
END:VCALENDAR