BEGIN:VCALENDAR
VERSION:2.0
PRODID:-//Nepali Calendar//EN
BEGIN:VEVENT
UID:3077dde8180e29bebb057f60fcffc8bc@nepalicalendar.com
DTSTAMP:20260421T213308Z
DTSTART;VALUE=DATE:20250813
DTEND;VALUE=DATE:20250814
SUMMARY:अन्तर्राष्ट्रिय युवा दिवस
DESCRIPTION:अन्तर्राष्ट्रिय युवा दिवस
END:VEVENT
END:VCALENDAR