BEGIN:VCALENDAR
VERSION:2.0
PRODID:-//Nepali Calendar//EN
BEGIN:VEVENT
UID:310610900c10c3f550edf4e3deb006d9@nepalicalendar.com
DTSTAMP:20260421T213719Z
DTSTART;VALUE=DATE:20250811
DTEND;VALUE=DATE:20250812
SUMMARY:रोपाईं जात्रा
DESCRIPTION:रोपाईं जात्रा
END:VEVENT
END:VCALENDAR