BEGIN:VCALENDAR
VERSION:2.0
PRODID:-//Nepali Calendar//EN
BEGIN:VEVENT
UID:6d0193f8200b4db6323fbe7cd1e6d1c1@nepalicalendar.com
DTSTAMP:20260421T213024Z
DTSTART;VALUE=DATE:20250810
DTEND;VALUE=DATE:20250811
SUMMARY:अन्तर्राष्ट्रिय आदिवासी दिवस
DESCRIPTION:अन्तर्राष्ट्रिय आदिवासी दिवस
END:VEVENT
END:VCALENDAR