BEGIN:VCALENDAR
VERSION:2.0
PRODID:-//Nepali Calendar//EN
BEGIN:VEVENT
UID:860bd5b225733905633110982dff8be8@nepalicalendar.com
DTSTAMP:20260421T213025Z
DTSTART;VALUE=DATE:20250810
DTEND;VALUE=DATE:20250811
SUMMARY:गाईजात्रा (बागमती प्रदेशका लागि मात्र)
DESCRIPTION:गाईजात्रा (बागमती प्रदेशका लागि मात्र)
END:VEVENT
END:VCALENDAR