BEGIN:VCALENDAR
VERSION:2.0
PRODID:-//Nepali Calendar//EN
BEGIN:VEVENT
UID:6c1f5207303a1d0d0a255686e74ab734@nepalicalendar.com
DTSTAMP:20260421T231959Z
DTSTART;VALUE=DATE:20250809
DTEND;VALUE=DATE:20250810
SUMMARY:संस्कृत दिवस
DESCRIPTION:संस्कृत दिवस
END:VEVENT
END:VCALENDAR