BEGIN:VCALENDAR
VERSION:2.0
PRODID:-//Nepali Calendar//EN
BEGIN:VEVENT
UID:a070ef5d5defde88572c1cced15d7297@nepalicalendar.com
DTSTAMP:20260422T222859Z
DTSTART;VALUE=DATE:20240413
DTEND;VALUE=DATE:20240414
SUMMARY:नयाँ वर्ष
DESCRIPTION:नयाँ वर्ष
END:VEVENT
END:VCALENDAR