BEGIN:VCALENDAR
VERSION:2.0
PRODID:-//Nepali Calendar//EN
BEGIN:VEVENT
UID:28dd2478197a971ff60b79db8fe8752b@nepalicalendar.com
DTSTAMP:20260421T231920Z
DTSTART;VALUE=DATE:20250809
DTEND;VALUE=DATE:20250810
SUMMARY:ऋषितर्पणी
DESCRIPTION:ऋषितर्पणी
END:VEVENT
END:VCALENDAR