BEGIN:VCALENDAR
VERSION:2.0
PRODID:-//Nepali Calendar//EN
BEGIN:VEVENT
UID:d7b3d2328b81b2d3b399afae46a9341f@nepalicalendar.com
DTSTAMP:20260421T213654Z
DTSTART;VALUE=DATE:20250809
DTEND;VALUE=DATE:20250810
SUMMARY:क्वाति खाने दिन
DESCRIPTION:क्वाति खाने दिन
END:VEVENT
END:VCALENDAR