BEGIN:VCALENDAR
VERSION:2.0
PRODID:-//Nepali Calendar//EN
BEGIN:VEVENT
UID:6e45984d87b09da999abaf461c479c9d@nepalicalendar.com
DTSTAMP:20260421T213412Z
DTSTART;VALUE=DATE:20250809
DTEND;VALUE=DATE:20250810
SUMMARY:रक्षा बन्धन
DESCRIPTION:रक्षा बन्धन
END:VEVENT
END:VCALENDAR