BEGIN:VCALENDAR
VERSION:2.0
PRODID:-//Nepali Calendar//EN
BEGIN:VEVENT
UID:47607b7f0abd2ae9de7e051e98f60c26@nepalicalendar.com
DTSTAMP:20260421T213412Z
DTSTART;VALUE=DATE:20250809
DTEND;VALUE=DATE:20250810
SUMMARY:जनै पूर्णिमा
DESCRIPTION:जनै पूर्णिमा
END:VEVENT
END:VCALENDAR