BEGIN:VCALENDAR
VERSION:2.0
PRODID:-//Nepali Calendar//EN
BEGIN:VEVENT
UID:cf32c3709c7cbd79b3b1f97353a1170f@nepalicalendar.com
DTSTAMP:20260421T213136Z
DTSTART;VALUE=DATE:20250808
DTEND;VALUE=DATE:20250809
SUMMARY:अन्तर्राष्ट्रिय भू संरक्षण दिवस
DESCRIPTION:अन्तर्राष्ट्रिय भू संरक्षण दिवस
END:VEVENT
END:VCALENDAR