BEGIN:VCALENDAR
VERSION:2.0
PRODID:-//Nepali Calendar//EN
BEGIN:VEVENT
UID:cfabb5c417e8a80a1754f745cb5616b5@nepalicalendar.com
DTSTAMP:20260421T213024Z
DTSTART;VALUE=DATE:20250808
DTEND;VALUE=DATE:20250809
SUMMARY:पूर्णिमा व्रत
DESCRIPTION:पूर्णिमा व्रत
END:VEVENT
END:VCALENDAR