BEGIN:VCALENDAR
VERSION:2.0
PRODID:-//Nepali Calendar//EN
BEGIN:VEVENT
UID:20b15e2749bedff03310dc78255a8ef3@nepalicalendar.com
DTSTAMP:20260421T213340Z
DTSTART;VALUE=DATE:20250806
DTEND;VALUE=DATE:20250807
SUMMARY:प्रदोष व्रत
DESCRIPTION:प्रदोष व्रत
END:VEVENT
END:VCALENDAR