BEGIN:VCALENDAR
VERSION:2.0
PRODID:-//Nepali Calendar//EN
BEGIN:VEVENT
UID:31bc36384afe56e77799df34d54aaa00@nepalicalendar.com
DTSTAMP:20260421T213617Z
DTSTART;VALUE=DATE:20250805
DTEND;VALUE=DATE:20250806
SUMMARY:पुत्रदा एकादशी व्रत
DESCRIPTION:पुत्रदा एकादशी व्रत
END:VEVENT
END:VCALENDAR