BEGIN:VCALENDAR
VERSION:2.0
PRODID:-//Nepali Calendar//EN
BEGIN:VEVENT
UID:14a4a609c6e78ca78064cac35c2727c5@nepalicalendar.com
DTSTAMP:20260421T213125Z
DTSTART;VALUE=DATE:20250802
DTEND;VALUE=DATE:20250803
SUMMARY:विश्व स्तनपान सप्ताह प्रारम्भ
DESCRIPTION:विश्व स्तनपान सप्ताह प्रारम्भ
END:VEVENT
END:VCALENDAR