BEGIN:VCALENDAR
VERSION:2.0
PRODID:-//Nepali Calendar//EN
BEGIN:VEVENT
UID:b32dab00a019e64cdec5b4b84197730a@nepalicalendar.com
DTSTAMP:20260422T010121Z
DTSTART;VALUE=DATE:20250522
DTEND;VALUE=DATE:20250523
SUMMARY:अन्तर्राष्ट्रिय जैविक विविधता दिवस
DESCRIPTION:अन्तर्राष्ट्रिय जैविक विविधता दिवस
END:VEVENT
END:VCALENDAR