BEGIN:VCALENDAR
VERSION:2.0
PRODID:-//Nepali Calendar//EN
BEGIN:VEVENT
UID:b342df70d0752b01de648e2043dcbf8c@nepalicalendar.com
DTSTAMP:20260421T213340Z
DTSTART;VALUE=DATE:20250801
DTEND;VALUE=DATE:20250802
SUMMARY:गोरखकाली पूजा
DESCRIPTION:गोरखकाली पूजा
END:VEVENT
END:VCALENDAR