BEGIN:VCALENDAR
VERSION:2.0
PRODID:-//Nepali Calendar//EN
BEGIN:VEVENT
UID:7b7b12abe15c2800a4d8bdabea05b2d6@nepalicalendar.com
DTSTAMP:20260421T232107Z
DTSTART;VALUE=DATE:20250731
DTEND;VALUE=DATE:20250801
SUMMARY:अन्तराष्ट्रिय मानव बेचबिखन विरुद्ध दिवस
DESCRIPTION:अन्तराष्ट्रिय मानव बेचबिखन विरुद्ध दिवस
END:VEVENT
END:VCALENDAR