BEGIN:VCALENDAR
VERSION:2.0
PRODID:-//Nepali Calendar//EN
BEGIN:VEVENT
UID:8c58c0cde926d2e8efaf3ef34118ca90@nepalicalendar.com
DTSTAMP:20260421T213627Z
DTSTART;VALUE=DATE:20250731
DTEND;VALUE=DATE:20250801
SUMMARY:अन्तर्राष्ट्रिय मित्रता दिवस
DESCRIPTION:अन्तर्राष्ट्रिय मित्रता दिवस
END:VEVENT
END:VCALENDAR