BEGIN:VCALENDAR
VERSION:2.0
PRODID:-//Nepali Calendar//EN
BEGIN:VEVENT
UID:831bd0ebe9c577e5a86a90f3bbb1a355@nepalicalendar.com
DTSTAMP:20260421T213504Z
DTSTART;VALUE=DATE:20250731
DTEND;VALUE=DATE:20250801
SUMMARY:तुलसीदास जयन्ती
DESCRIPTION:तुलसीदास जयन्ती
END:VEVENT
END:VCALENDAR