BEGIN:VCALENDAR
VERSION:2.0
PRODID:-//Nepali Calendar//EN
BEGIN:VEVENT
UID:46bf2d4904cfc09e196dcea594554eec@nepalicalendar.com
DTSTAMP:20260421T213453Z
DTSTART;VALUE=DATE:20250731
DTEND;VALUE=DATE:20250801
SUMMARY:खीर खाने दिन
DESCRIPTION:खीर खाने दिन
END:VEVENT
END:VCALENDAR