BEGIN:VCALENDAR
VERSION:2.0
PRODID:-//Nepali Calendar//EN
BEGIN:VEVENT
UID:6e4a732b22e3be89f12eee798722f898@nepalicalendar.com
DTSTAMP:20260421T213318Z
DTSTART;VALUE=DATE:20250730
DTEND;VALUE=DATE:20250731
SUMMARY:विश्व बाघ दिवस
DESCRIPTION:विश्व बाघ दिवस
END:VEVENT
END:VCALENDAR