BEGIN:VCALENDAR
VERSION:2.0
PRODID:-//Nepali Calendar//EN
BEGIN:VEVENT
UID:fd55025dd0e07818bd14cd066e44bdf5@nepalicalendar.com
DTSTAMP:20260421T213540Z
DTSTART;VALUE=DATE:20250730
DTEND;VALUE=DATE:20250731
SUMMARY:कल्की जयन्ती
DESCRIPTION:कल्की जयन्ती
END:VEVENT
END:VCALENDAR