BEGIN:VCALENDAR
VERSION:2.0
PRODID:-//Nepali Calendar//EN
BEGIN:VEVENT
UID:30083a120fa68ee455ec09f26e029aa2@nepalicalendar.com
DTSTAMP:20260421T213125Z
DTSTART;VALUE=DATE:20250729
DTEND;VALUE=DATE:20250730
SUMMARY:विश्व हेपाटाइटिस दिवस
DESCRIPTION:विश्व हेपाटाइटिस दिवस
END:VEVENT
END:VCALENDAR