BEGIN:VCALENDAR
VERSION:2.0
PRODID:-//Nepali Calendar//EN
BEGIN:VEVENT
UID:d83e72f97732e0fbb416f63985ce8164@nepalicalendar.com
DTSTAMP:20260421T213124Z
DTSTART;VALUE=DATE:20250729
DTEND;VALUE=DATE:20250730
SUMMARY:नाग पञ्चमी व्रत
DESCRIPTION:नाग पञ्चमी व्रत
END:VEVENT
END:VCALENDAR