BEGIN:VCALENDAR
VERSION:2.0
PRODID:-//Nepali Calendar//EN
BEGIN:VEVENT
UID:46764000785d4609a64496c9e5485fa5@nepalicalendar.com
DTSTAMP:20260421T213616Z
DTSTART;VALUE=DATE:20250727
DTEND;VALUE=DATE:20250728
SUMMARY:वराह जयन्ती
DESCRIPTION:वराह जयन्ती
END:VEVENT
END:VCALENDAR