BEGIN:VCALENDAR
VERSION:2.0
PRODID:-//Nepali Calendar//EN
BEGIN:VEVENT
UID:7d34e80e39a623b1d134e05320b3e93f@nepalicalendar.com
DTSTAMP:20260421T213452Z
DTSTART;VALUE=DATE:20250725
DTEND;VALUE=DATE:20250726
SUMMARY:गुंलापर्व आरम्भ
DESCRIPTION:गुंलापर्व आरम्भ
END:VEVENT
END:VCALENDAR