BEGIN:VCALENDAR
VERSION:2.0
PRODID:-//Nepali Calendar//EN
BEGIN:VEVENT
UID:69f5eb801fc7e1e5aec8cdb838d81c25@nepalicalendar.com
DTSTAMP:20260421T213136Z
DTSTART;VALUE=DATE:20250723
DTEND;VALUE=DATE:20250724
SUMMARY:गथांमुगः चःह्रे
DESCRIPTION:गथांमुगः चःह्रे
END:VEVENT
END:VCALENDAR