BEGIN:VCALENDAR
VERSION:2.0
PRODID:-//Nepali Calendar//EN
BEGIN:VEVENT
UID:6891bb97b0ef1bc2583a91353bdef1ea@nepalicalendar.com
DTSTAMP:20260421T213504Z
DTSTART;VALUE=DATE:20250722
DTEND;VALUE=DATE:20250723
SUMMARY:प्रदोष व्रत
DESCRIPTION:प्रदोष व्रत
END:VEVENT
END:VCALENDAR