BEGIN:VCALENDAR
VERSION:2.0
PRODID:-//Nepali Calendar//EN
BEGIN:VEVENT
UID:efdf95a19dafc6f0749e1b94c758502e@nepalicalendar.com
DTSTAMP:20260421T213308Z
DTSTART;VALUE=DATE:20250721
DTEND;VALUE=DATE:20250722
SUMMARY:कामिका एकादशी व्रत
DESCRIPTION:कामिका एकादशी व्रत
END:VEVENT
END:VCALENDAR