BEGIN:VCALENDAR
VERSION:2.0
PRODID:-//Nepali Calendar//EN
BEGIN:VEVENT
UID:2e9feb86e2e09636f2366576d52c4363@nepalicalendar.com
DTSTAMP:20260421T213540Z
DTSTART;VALUE=DATE:20250717
DTEND;VALUE=DATE:20250718
SUMMARY:दक्षिणायन आरम्भ
DESCRIPTION:दक्षिणायन आरम्भ
END:VEVENT
END:VCALENDAR