BEGIN:VCALENDAR
VERSION:2.0
PRODID:-//Nepali Calendar//EN
BEGIN:VEVENT
UID:0b49827b39dc178065c35f7b37baecbe@nepalicalendar.com
DTSTAMP:20260421T213210Z
DTSTART;VALUE=DATE:20250717
DTEND;VALUE=DATE:20250718
SUMMARY:लुतो फाल्ने दिन
DESCRIPTION:लुतो फाल्ने दिन
END:VEVENT
END:VCALENDAR