BEGIN:VCALENDAR
VERSION:2.0
PRODID:-//Nepali Calendar//EN
BEGIN:VEVENT
UID:51bf7d74e92f5a8363bde44bca95c97a@nepalicalendar.com
DTSTAMP:20260421T213211Z
DTSTART;VALUE=DATE:20250717
DTEND;VALUE=DATE:20250718
SUMMARY:कर्कट सङ्क्रान्ति
DESCRIPTION:कर्कट सङ्क्रान्ति
END:VEVENT
END:VCALENDAR